BEGIN:VCALENDAR
VERSION:2.0
PRODID:-//Mayfield Primary School - ECPv5.12.2//NONSGML v1.0//EN
CALSCALE:GREGORIAN
METHOD:PUBLISH
X-WR-CALNAME:Mayfield Primary School
X-ORIGINAL-URL:https://mayfieldcambridge.org
X-WR-CALDESC:Events for Mayfield Primary School
REFRESH-INTERVAL;VALUE=DURATION:PT1H
X-Robots-Tag:noindex
X-PUBLISHED-TTL:PT1H
BEGIN:VTIMEZONE
TZID:Europe/London
BEGIN:DAYLIGHT
TZOFFSETFROM:+0000
TZOFFSETTO:+0100
TZNAME:BST
DTSTART:20260329T010000
END:DAYLIGHT
BEGIN:STANDARD
TZOFFSETFROM:+0100
TZOFFSETTO:+0000
TZNAME:GMT
DTSTART:20261025T010000
END:STANDARD
END:VTIMEZONE
BEGIN:VEVENT
DTSTART;VALUE=DATE:20260504
DTEND;VALUE=DATE:20260505
DTSTAMP:20260422T181926
CREATED:20221114T135442Z
LAST-MODIFIED:20250728T121844Z
UID:13787-1777852800-1777939199@mayfieldcambridge.org
SUMMARY:May Bank Holiday 2026 - School Closed
DESCRIPTION:
URL:https://mayfieldcambridge.org/?tribe_events=may-bank-holiday-2024-school-closed
END:VEVENT
BEGIN:VEVENT
DTSTART;TZID=Europe/London:20260525T085500
DTEND;TZID=Europe/London:20260529T152000
DTSTAMP:20260422T181926
CREATED:20221114T135414Z
LAST-MODIFIED:20250728T121923Z
UID:13785-1779699300-1780068000@mayfieldcambridge.org
SUMMARY:Summer Half Term 2026
DESCRIPTION:
URL:https://mayfieldcambridge.org/?tribe_events=summer-half-term-2024
END:VEVENT
BEGIN:VEVENT
DTSTART;VALUE=DATE:20260706
DTEND;VALUE=DATE:20260707
DTSTAMP:20260422T181926
CREATED:20220613T074320Z
LAST-MODIFIED:20250728T122051Z
UID:13413-1783296000-1783382399@mayfieldcambridge.org
SUMMARY:Sports Day 2026
DESCRIPTION:Please check back for more details nearer the time
URL:https://mayfieldcambridge.org/?tribe_events=sports-day
END:VEVENT
BEGIN:VEVENT
DTSTART;VALUE=DATE:20260717
DTEND;VALUE=DATE:20260718
DTSTAMP:20260422T181926
CREATED:20221114T135618Z
LAST-MODIFIED:20250728T121957Z
UID:13791-1784246400-1784332799@mayfieldcambridge.org
SUMMARY:Summer Term 2026 Ends
DESCRIPTION:
URL:https://mayfieldcambridge.org/?tribe_events=summer-term-2024-ends
END:VEVENT
END:VCALENDAR